############################################################################## ############################################################################## ### ### Running command: ### ### rm -rf clustSIGNAL.buildbin-libdir && mkdir clustSIGNAL.buildbin-libdir && F:\biocbuild\bbs-3.22-bioc\R\bin\R.exe CMD INSTALL --build --library=clustSIGNAL.buildbin-libdir clustSIGNAL_1.1.0.tar.gz ### ############################################################################## ############################################################################## * installing *source* package 'clustSIGNAL' ... ** this is package 'clustSIGNAL' version '1.1.0' ** using staged installation ** R ** data ** inst ** byte-compile and prepare package for lazy loading ** help *** installing help indices *** copying figures ** building package indices ** installing vignettes ** testing if installed package can be loaded from temporary location ** testing if installed package can be loaded from final location ** testing if installed package keeps a record of temporary installation path * MD5 sums packaged installation of 'clustSIGNAL' as clustSIGNAL_1.1.0.zip * DONE (clustSIGNAL)