Package: clstutils Version: 1.57.0 Command: /home/biocbuild/R/R/bin/R CMD INSTALL clstutils StartedAt: 2025-07-03 20:23:05 -0000 (Thu, 03 Jul 2025) EndedAt: 2025-07-03 20:24:11 -0000 (Thu, 03 Jul 2025) EllapsedTime: 65.7 seconds RetCode: 0 Status: OK