Package: clst Version: 1.57.0 Command: F:\biocbuild\bbs-3.22-bioc\R\bin\R.exe CMD check --no-multiarch --install=check:clst.install-out.txt --library=F:\biocbuild\bbs-3.22-bioc\R\library --no-vignettes --timings clst_1.57.0.tar.gz StartedAt: 2025-07-08 00:30:40 -0400 (Tue, 08 Jul 2025) EndedAt: 2025-07-08 00:31:21 -0400 (Tue, 08 Jul 2025) EllapsedTime: 40.9 seconds RetCode: 0 Status: WARNINGS CheckDir: clst.Rcheck Warnings: 1