Package: clst Version: 1.57.0 Command: chmod a+r clst -R && F:\biocbuild\bbs-3.22-bioc\R\bin\R.exe CMD build --keep-empty-dirs --no-resave-data clst StartedAt: 2025-07-07 18:03:53 -0400 (Mon, 07 Jul 2025) EndedAt: 2025-07-07 18:04:19 -0400 (Mon, 07 Jul 2025) EllapsedTime: 25.6 seconds RetCode: 0 Status: OK PackageFile: clst_1.57.0.tar.gz PackageFileSize: 929.3 KiB