Package: cliqueMS Version: 1.23.0 Command: /home/biocbuild/R/R/bin/R CMD INSTALL cliqueMS StartedAt: 2025-07-10 21:52:03 -0000 (Thu, 10 Jul 2025) EndedAt: 2025-07-10 21:53:35 -0000 (Thu, 10 Jul 2025) EllapsedTime: 92.5 seconds RetCode: 0 Status: OK