Package: cliqueMS Version: 1.23.0 Command: F:\biocbuild\bbs-3.22-bioc\R\bin\R.exe CMD INSTALL cliqueMS StartedAt: 2025-07-22 16:35:41 -0400 (Tue, 22 Jul 2025) EndedAt: 2025-07-22 16:37:20 -0400 (Tue, 22 Jul 2025) EllapsedTime: 99.3 seconds RetCode: 0 Status: OK