Package: cliqueMS Version: 1.23.0 Command: F:\biocbuild\bbs-3.22-bioc\R\bin\R.exe CMD check --no-multiarch --install=check:cliqueMS.install-out.txt --library=F:\biocbuild\bbs-3.22-bioc\R\library --no-vignettes --timings cliqueMS_1.23.0.tar.gz StartedAt: 2025-07-23 00:33:15 -0400 (Wed, 23 Jul 2025) EndedAt: 2025-07-23 00:43:05 -0400 (Wed, 23 Jul 2025) EllapsedTime: 590.3 seconds RetCode: 0 Status: OK CheckDir: cliqueMS.Rcheck Warnings: 0