Package: cliqueMS Version: 1.23.0 Command: chmod a+r cliqueMS -R && F:\biocbuild\bbs-3.22-bioc\R\bin\R.exe CMD build --keep-empty-dirs --no-resave-data cliqueMS StartedAt: 2025-07-22 18:04:43 -0400 (Tue, 22 Jul 2025) EndedAt: 2025-07-22 18:07:05 -0400 (Tue, 22 Jul 2025) EllapsedTime: 142.1 seconds RetCode: 0 Status: OK PackageFile: cliqueMS_1.23.0.tar.gz PackageFileSize: 555.9 KiB