Package: cliqueMS Version: 1.23.0 Command: /Library/Frameworks/R.framework/Resources/bin/R CMD INSTALL cliqueMS StartedAt: 2025-07-01 15:52:17 -0400 (Tue, 01 Jul 2025) EndedAt: 2025-07-01 15:53:44 -0400 (Tue, 01 Jul 2025) EllapsedTime: 86.1 seconds RetCode: 0 Status: OK