Package: cliqueMS Version: 1.23.0 Command: /Library/Frameworks/R.framework/Resources/bin/R CMD check --install=check:cliqueMS.install-out.txt --library=/Library/Frameworks/R.framework/Resources/library --no-vignettes --timings cliqueMS_1.23.0.tar.gz StartedAt: 2025-07-01 19:52:47 -0400 (Tue, 01 Jul 2025) EndedAt: 2025-07-01 19:59:27 -0400 (Tue, 01 Jul 2025) EllapsedTime: 399.5 seconds RetCode: 0 Status: WARNINGS CheckDir: cliqueMS.Rcheck Warnings: 1