Package: cliqueMS Version: 1.23.0 Command: /Library/Frameworks/R.framework/Resources/bin/R CMD build --keep-empty-dirs --no-resave-data cliqueMS StartedAt: 2025-07-01 16:31:27 -0400 (Tue, 01 Jul 2025) EndedAt: 2025-07-01 16:33:00 -0400 (Tue, 01 Jul 2025) EllapsedTime: 93.5 seconds RetCode: 0 Status: OK PackageFile: cliqueMS_1.23.0.tar.gz PackageFileSize: 555.8 KiB