Package: cliqueMS Version: 1.23.0 Command: /Library/Frameworks/R.framework/Resources/bin/R CMD INSTALL cliqueMS StartedAt: 2025-07-11 15:23:09 -0400 (Fri, 11 Jul 2025) EndedAt: 2025-07-11 15:23:33 -0400 (Fri, 11 Jul 2025) EllapsedTime: 24.2 seconds RetCode: 0 Status: OK