Package: cliqueMS Version: 1.23.0 Command: /Library/Frameworks/R.framework/Resources/bin/R CMD build --keep-empty-dirs --no-resave-data cliqueMS StartedAt: 2025-07-11 15:53:07 -0400 (Fri, 11 Jul 2025) EndedAt: 2025-07-11 15:53:42 -0400 (Fri, 11 Jul 2025) EllapsedTime: 34.4 seconds RetCode: 0 Status: OK PackageFile: cliqueMS_1.23.0.tar.gz PackageFileSize: 556 KiB