Package: clipper Version: 1.49.0 Command: /home/biocbuild/R/R/bin/R CMD INSTALL clipper StartedAt: 2025-10-02 21:14:14 -0000 (Thu, 02 Oct 2025) EndedAt: 2025-10-02 21:15:04 -0000 (Thu, 02 Oct 2025) EllapsedTime: 50.1 seconds RetCode: 0 Status: OK