Package: clipper Version: 1.49.0 Command: /home/biocbuild/R/R/bin/R CMD build --keep-empty-dirs --no-resave-data clipper StartedAt: 2025-10-02 22:50:22 -0000 (Thu, 02 Oct 2025) EndedAt: 2025-10-02 22:51:53 -0000 (Thu, 02 Oct 2025) EllapsedTime: 91.0 seconds RetCode: 0 Status: OK PackageFile: clipper_1.49.0.tar.gz PackageFileSize: 998.7 KiB