Package: clipper Version: 1.49.0 Command: chmod a+r clipper -R && F:\biocbuild\bbs-3.22-bioc\R\bin\R.exe CMD build --keep-empty-dirs --no-resave-data clipper StartedAt: 2025-07-24 18:14:10 -0400 (Thu, 24 Jul 2025) EndedAt: 2025-07-24 18:15:40 -0400 (Thu, 24 Jul 2025) EllapsedTime: 90.3 seconds RetCode: 0 Status: OK PackageFile: clipper_1.49.0.tar.gz PackageFileSize: 1008 KiB