Package: clipper Version: 1.49.0 Command: /Library/Frameworks/R.framework/Resources/bin/R CMD INSTALL clipper StartedAt: 2025-07-14 15:22:35 -0400 (Mon, 14 Jul 2025) EndedAt: 2025-07-14 15:22:51 -0400 (Mon, 14 Jul 2025) EllapsedTime: 15.6 seconds RetCode: 0 Status: OK