############################################################################## ############################################################################## ### ### Running command: ### ### /Library/Frameworks/R.framework/Resources/bin/R CMD INSTALL clipper ### ############################################################################## ############################################################################## * installing to library ‘/Library/Frameworks/R.framework/Versions/4.5-arm64/Resources/library’ * installing *source* package ‘clipper’ ... ** this is package ‘clipper’ version ‘1.49.0’ ** using staged installation ** R ** inst ** byte-compile and prepare package for lazy loading No methods found in package ‘GenomeInfoDb’ for requests: ‘seqnames’, ‘seqlengths’, ‘seqlevels’ when loading ‘qpgraph’ ** help *** installing help indices ** building package indices ** installing vignettes ** testing if installed package can be loaded from temporary location No methods found in package ‘GenomeInfoDb’ for requests: ‘seqnames’, ‘seqlengths’, ‘seqlevels’ when loading ‘qpgraph’ ** testing if installed package can be loaded from final location No methods found in package ‘GenomeInfoDb’ for requests: ‘seqnames’, ‘seqlengths’, ‘seqlevels’ when loading ‘qpgraph’ ** testing if installed package keeps a record of temporary installation path * DONE (clipper)