Package: clipper Version: 1.49.0 Command: /Library/Frameworks/R.framework/Resources/bin/R CMD build --keep-empty-dirs --no-resave-data clipper StartedAt: 2025-07-14 15:53:48 -0400 (Mon, 14 Jul 2025) EndedAt: 2025-07-14 15:54:19 -0400 (Mon, 14 Jul 2025) EllapsedTime: 31.4 seconds RetCode: 0 Status: OK PackageFile: clipper_1.49.0.tar.gz PackageFileSize: 1006 KiB