Package: clipper Version: 1.49.0 Command: rm -rf clipper.buildbin-libdir && mkdir clipper.buildbin-libdir && /Users/biocbuild/BBS/utils/build-universal.sh clipper_1.49.0.tar.gz /Library/Frameworks/R.framework/Resources/bin/R clipper.buildbin-libdir StartedAt: 2025-07-14 22:14:14 -0400 (Mon, 14 Jul 2025) EndedAt: 2025-07-14 22:14:32 -0400 (Mon, 14 Jul 2025) EllapsedTime: 17.4 seconds RetCode: 0 Status: OK PackageFile: clipper_1.49.0.tgz PackageFileSize: 715.9 KiB