Package: clippda Version: 1.59.0 Command: /home/biocbuild/R/R/bin/R CMD INSTALL clippda StartedAt: 2025-07-10 21:17:58 -0000 (Thu, 10 Jul 2025) EndedAt: 2025-07-10 21:18:11 -0000 (Thu, 10 Jul 2025) EllapsedTime: 13.2 seconds RetCode: 0 Status: OK