Package: clippda Version: 1.59.0 Command: /home/biocbuild/R/R/bin/R CMD check --install=check:clippda.install-out.txt --library=/home/biocbuild/R/R/site-library --no-vignettes --timings clippda_1.59.0.tar.gz StartedAt: 2025-07-11 06:40:28 -0000 (Fri, 11 Jul 2025) EndedAt: 2025-07-11 06:43:08 -0000 (Fri, 11 Jul 2025) EllapsedTime: 160.1 seconds RetCode: 0 Status: OK CheckDir: clippda.Rcheck Warnings: 0