Package: clippda Version: 1.59.0 Command: /home/biocbuild/R/R/bin/R CMD build --keep-empty-dirs --no-resave-data clippda StartedAt: 2025-07-10 23:49:51 -0000 (Thu, 10 Jul 2025) EndedAt: 2025-07-10 23:50:58 -0000 (Thu, 10 Jul 2025) EllapsedTime: 67.0 seconds RetCode: 0 Status: OK PackageFile: clippda_1.59.0.tar.gz PackageFileSize: 1.483 MiB