Package: clevRvis Version: 1.9.0 Command: /home/biocbuild/R/R/bin/R CMD INSTALL clevRvis StartedAt: 2025-07-21 20:31:18 -0000 (Mon, 21 Jul 2025) EndedAt: 2025-07-21 20:31:56 -0000 (Mon, 21 Jul 2025) EllapsedTime: 37.5 seconds RetCode: 0 Status: OK