Package: clevRvis Version: 1.9.0 Command: /home/biocbuild/R/R/bin/R CMD check --install=check:clevRvis.install-out.txt --library=/home/biocbuild/R/R/site-library --no-vignettes --timings clevRvis_1.9.0.tar.gz StartedAt: 2025-07-22 05:37:57 -0000 (Tue, 22 Jul 2025) EndedAt: 2025-07-22 05:39:12 -0000 (Tue, 22 Jul 2025) EllapsedTime: 74.1 seconds RetCode: 0 Status: OK CheckDir: clevRvis.Rcheck Warnings: 0