Package: cleaver Version: 1.47.0 Command: /home/biocbuild/R/R/bin/R CMD INSTALL cleaver StartedAt: 2025-07-10 21:30:18 -0000 (Thu, 10 Jul 2025) EndedAt: 2025-07-10 21:30:30 -0000 (Thu, 10 Jul 2025) EllapsedTime: 11.7 seconds RetCode: 0 Status: OK