Package: cleaver Version: 1.47.0 Command: /home/biocbuild/R/R/bin/R CMD check --install=check:cleaver.install-out.txt --library=/home/biocbuild/R/R/site-library --no-vignettes --timings cleaver_1.47.0.tar.gz StartedAt: 2025-07-11 06:39:56 -0000 (Fri, 11 Jul 2025) EndedAt: 2025-07-11 06:41:19 -0000 (Fri, 11 Jul 2025) EllapsedTime: 83.1 seconds RetCode: 0 Status: OK CheckDir: cleaver.Rcheck Warnings: 0