Package: cleaver Version: 1.47.0 Command: F:\biocbuild\bbs-3.22-bioc\R\bin\R.exe CMD check --no-multiarch --install=check:cleaver.install-out.txt --library=F:\biocbuild\bbs-3.22-bioc\R\library --no-vignettes --timings cleaver_1.47.0.tar.gz StartedAt: 2025-07-21 00:29:32 -0400 (Mon, 21 Jul 2025) EndedAt: 2025-07-21 00:30:58 -0400 (Mon, 21 Jul 2025) EllapsedTime: 85.4 seconds RetCode: 0 Status: OK CheckDir: cleaver.Rcheck Warnings: 0