Package: cleaver Version: 1.47.0 Command: chmod a+r cleaver -R && F:\biocbuild\bbs-3.22-bioc\R\bin\R.exe CMD build --keep-empty-dirs --no-resave-data cleaver StartedAt: 2025-07-20 18:01:27 -0400 (Sun, 20 Jul 2025) EndedAt: 2025-07-20 18:01:54 -0400 (Sun, 20 Jul 2025) EllapsedTime: 27.2 seconds RetCode: 0 Status: OK PackageFile: cleaver_1.47.0.tar.gz PackageFileSize: 320.5 KiB