Package: cleaver Version: 1.47.0 Command: /Library/Frameworks/R.framework/Resources/bin/R CMD build --keep-empty-dirs --no-resave-data cleaver StartedAt: 2025-07-07 16:26:00 -0400 (Mon, 07 Jul 2025) EndedAt: 2025-07-07 16:26:25 -0400 (Mon, 07 Jul 2025) EllapsedTime: 25.1 seconds RetCode: 0 Status: OK PackageFile: cleaver_1.47.0.tar.gz PackageFileSize: 344.6 KiB