Package: cleaver Version: 1.47.0 Command: rm -rf cleaver.buildbin-libdir && mkdir cleaver.buildbin-libdir && /Users/biocbuild/BBS/utils/build-universal.sh cleaver_1.47.0.tar.gz /Library/Frameworks/R.framework/Resources/bin/R cleaver.buildbin-libdir StartedAt: 2025-07-08 00:46:20 -0400 (Tue, 08 Jul 2025) EndedAt: 2025-07-08 00:46:35 -0400 (Tue, 08 Jul 2025) EllapsedTime: 15.0 seconds RetCode: 0 Status: OK PackageFile: cleaver_1.47.0.tgz PackageFileSize: 380.9 KiB