Package: cleaver Version: 1.47.0 Command: /Library/Frameworks/R.framework/Resources/bin/R CMD INSTALL cleaver StartedAt: 2025-07-07 15:08:11 -0400 (Mon, 07 Jul 2025) EndedAt: 2025-07-07 15:08:15 -0400 (Mon, 07 Jul 2025) EllapsedTime: 3.4 seconds RetCode: 0 Status: OK