Package: cleaver Version: 1.47.0 Command: /Library/Frameworks/R.framework/Resources/bin/R CMD check --install=check:cleaver.install-out.txt --library=/Library/Frameworks/R.framework/Resources/library --no-vignettes --timings cleaver_1.47.0.tar.gz StartedAt: 2025-07-07 18:30:53 -0400 (Mon, 07 Jul 2025) EndedAt: 2025-07-07 18:31:23 -0400 (Mon, 07 Jul 2025) EllapsedTime: 29.4 seconds RetCode: 0 Status: OK CheckDir: cleaver.Rcheck Warnings: 0