Package: cleanUpdTSeq Version: 1.47.0 Command: /Library/Frameworks/R.framework/Resources/bin/R CMD INSTALL cleanUpdTSeq StartedAt: 2025-07-17 15:18:35 -0400 (Thu, 17 Jul 2025) EndedAt: 2025-07-17 15:19:00 -0400 (Thu, 17 Jul 2025) EllapsedTime: 24.8 seconds RetCode: 0 Status: OK