Package: cleanUpdTSeq Version: 1.47.0 Command: /Library/Frameworks/R.framework/Resources/bin/R CMD build --keep-empty-dirs --no-resave-data cleanUpdTSeq StartedAt: 2025-07-17 15:53:02 -0400 (Thu, 17 Jul 2025) EndedAt: 2025-07-17 15:53:36 -0400 (Thu, 17 Jul 2025) EllapsedTime: 34.4 seconds RetCode: 0 Status: OK PackageFile: cleanUpdTSeq_1.47.0.tar.gz PackageFileSize: 4.008 MiB