Package: circRNAprofiler Version: 1.23.1 Command: rm -rf circRNAprofiler.buildbin-libdir && mkdir circRNAprofiler.buildbin-libdir && F:\biocbuild\bbs-3.22-bioc\R\bin\R.exe CMD INSTALL --build --library=circRNAprofiler.buildbin-libdir circRNAprofiler_1.23.1.tar.gz StartedAt: 2025-07-21 08:45:25 -0400 (Mon, 21 Jul 2025) EndedAt: 2025-07-21 08:47:37 -0400 (Mon, 21 Jul 2025) EllapsedTime: 131.3 seconds RetCode: 0 Status: OK PackageFile: circRNAprofiler_1.23.1.zip PackageFileSize: 3.349 MiB