Package: circRNAprofiler Version: 1.23.1 Command: rm -rf circRNAprofiler.buildbin-libdir && mkdir circRNAprofiler.buildbin-libdir && /Users/biocbuild/BBS/utils/build-universal.sh circRNAprofiler_1.23.1.tar.gz /Library/Frameworks/R.framework/Resources/bin/R circRNAprofiler.buildbin-libdir StartedAt: 2025-07-11 22:14:55 -0400 (Fri, 11 Jul 2025) EndedAt: 2025-07-11 22:15:17 -0400 (Fri, 11 Jul 2025) EllapsedTime: 22.5 seconds RetCode: 0 Status: OK PackageFile: circRNAprofiler_1.23.1.tgz PackageFileSize: 3.557 MiB