Package: cicero Version: 1.27.0 Command: F:\biocbuild\bbs-3.22-bioc\R\bin\R.exe CMD INSTALL cicero StartedAt: 2025-07-24 17:07:42 -0400 (Thu, 24 Jul 2025) EndedAt: 2025-07-24 17:08:58 -0400 (Thu, 24 Jul 2025) EllapsedTime: 76.2 seconds RetCode: 0 Status: OK