Package: cicero Version: 1.27.0 Command: /Library/Frameworks/R.framework/Resources/bin/R CMD INSTALL cicero StartedAt: 2025-07-22 15:39:51 -0400 (Tue, 22 Jul 2025) EndedAt: 2025-07-22 15:41:10 -0400 (Tue, 22 Jul 2025) EllapsedTime: 79.4 seconds RetCode: 0 Status: OK