Package: cicero Version: 1.27.0 Command: /Library/Frameworks/R.framework/Resources/bin/R CMD build --keep-empty-dirs --no-resave-data cicero StartedAt: 2025-07-22 16:18:55 -0400 (Tue, 22 Jul 2025) EndedAt: 2025-07-22 16:21:04 -0400 (Tue, 22 Jul 2025) EllapsedTime: 129.1 seconds RetCode: 0 Status: OK PackageFile: cicero_1.27.0.tar.gz PackageFileSize: 1.193 MiB