Package: cicero Version: 1.27.0 Command: /Library/Frameworks/R.framework/Resources/bin/R CMD INSTALL cicero StartedAt: 2025-07-22 15:23:42 -0400 (Tue, 22 Jul 2025) EndedAt: 2025-07-22 15:24:06 -0400 (Tue, 22 Jul 2025) EllapsedTime: 23.8 seconds RetCode: 0 Status: OK