Package: chromVAR Version: 1.31.1 Command: F:\biocbuild\bbs-3.22-bioc\R\bin\R.exe CMD INSTALL chromVAR StartedAt: 2025-08-14 16:50:58 -0400 (Thu, 14 Aug 2025) EndedAt: 2025-08-14 16:52:37 -0400 (Thu, 14 Aug 2025) EllapsedTime: 99.0 seconds RetCode: 0 Status: OK