Package: chromVAR Version: 1.31.1 Command: F:\biocbuild\bbs-3.22-bioc\R\bin\R.exe CMD check --no-multiarch --install=check:chromVAR.install-out.txt --library=F:\biocbuild\bbs-3.22-bioc\R\library --no-vignettes --timings chromVAR_1.31.1.tar.gz StartedAt: 2025-08-15 01:38:03 -0400 (Fri, 15 Aug 2025) EndedAt: 2025-08-15 01:45:30 -0400 (Fri, 15 Aug 2025) EllapsedTime: 447.4 seconds RetCode: 0 Status: OK CheckDir: chromVAR.Rcheck Warnings: 0