Package: chromVAR Version: 1.31.1 Command: rm -rf chromVAR.buildbin-libdir && mkdir chromVAR.buildbin-libdir && F:\biocbuild\bbs-3.22-bioc\R\bin\R.exe CMD INSTALL --build --library=chromVAR.buildbin-libdir chromVAR_1.31.1.tar.gz StartedAt: 2025-08-15 09:57:33 -0400 (Fri, 15 Aug 2025) EndedAt: 2025-08-15 09:59:24 -0400 (Fri, 15 Aug 2025) EllapsedTime: 111.0 seconds RetCode: 0 Status: OK PackageFile: chromVAR_1.31.1.zip PackageFileSize: 1.612 MiB