Package: chopsticks Version: 1.75.0 Command: F:\biocbuild\bbs-3.22-bioc\R\bin\R.exe CMD check --no-multiarch --install=check:chopsticks.install-out.txt --library=F:\biocbuild\bbs-3.22-bioc\R\library --no-vignettes --timings chopsticks_1.75.0.tar.gz StartedAt: 2025-08-15 01:36:58 -0400 (Fri, 15 Aug 2025) EndedAt: 2025-08-15 01:38:10 -0400 (Fri, 15 Aug 2025) EllapsedTime: 71.7 seconds RetCode: 0 Status: WARNINGS CheckDir: chopsticks.Rcheck Warnings: 2