Package: chopsticks Version: 1.75.0 Command: chmod a+r chopsticks -R && F:\biocbuild\bbs-3.22-bioc\R\bin\R.exe CMD build --keep-empty-dirs --no-resave-data chopsticks StartedAt: 2025-08-14 19:06:38 -0400 (Thu, 14 Aug 2025) EndedAt: 2025-08-14 19:07:39 -0400 (Thu, 14 Aug 2025) EllapsedTime: 60.4 seconds RetCode: 0 Status: OK PackageFile: chopsticks_1.75.0.tar.gz PackageFileSize: 6.556 MiB