Package: chopsticks Version: 1.75.0 Command: rm -rf chopsticks.buildbin-libdir && mkdir chopsticks.buildbin-libdir && F:\biocbuild\bbs-3.22-bioc\R\bin\R.exe CMD INSTALL --build --library=chopsticks.buildbin-libdir chopsticks_1.75.0.tar.gz StartedAt: 2025-08-15 09:57:20 -0400 (Fri, 15 Aug 2025) EndedAt: 2025-08-15 09:58:21 -0400 (Fri, 15 Aug 2025) EllapsedTime: 61.5 seconds RetCode: 0 Status: OK PackageFile: chopsticks_1.75.0.zip PackageFileSize: 5.307 MiB