Package: chopsticks Version: 1.75.0 Command: rm -rf chopsticks.buildbin-libdir && mkdir chopsticks.buildbin-libdir && /Users/biocbuild/BBS/utils/build-universal.sh chopsticks_1.75.0.tar.gz /Library/Frameworks/R.framework/Resources/bin/R chopsticks.buildbin-libdir StartedAt: 2025-07-14 00:50:14 -0400 (Mon, 14 Jul 2025) EndedAt: 2025-07-14 00:50:40 -0400 (Mon, 14 Jul 2025) EllapsedTime: 26.4 seconds RetCode: 0 Status: OK PackageFile: chopsticks_1.75.0.tgz PackageFileSize: 5.4 MiB