Package: chipseq Version: 1.59.0 Command: /home/biocbuild/R/R/bin/R CMD INSTALL chipseq StartedAt: 2025-06-30 21:18:30 -0000 (Mon, 30 Jun 2025) EndedAt: 2025-06-30 21:19:10 -0000 (Mon, 30 Jun 2025) EllapsedTime: 39.6 seconds RetCode: 0 Status: OK