Package: chipseq Version: 1.59.0 Command: /home/biocbuild/R/R/bin/R CMD check --install=check:chipseq.install-out.txt --library=/home/biocbuild/R/R/site-library --no-vignettes --timings chipseq_1.59.0.tar.gz StartedAt: 2025-07-01 05:48:31 -0000 (Tue, 01 Jul 2025) EndedAt: 2025-07-01 05:52:48 -0000 (Tue, 01 Jul 2025) EllapsedTime: 257.2 seconds RetCode: 0 Status: WARNINGS CheckDir: chipseq.Rcheck Warnings: 2